BEGIN:VCALENDAR
PRODID:-//Shelly Group SE//Shelly Group SE calendar//EN
VERSION:2.0
METHOD:PUBLISH
BEGIN:VEVENT
DESCRIPTION:
X-ALT-DESC;FMTTYPE=text/html:
CLASS:PUBLIC
LOCATION:Munich
UID:9576f2db-42fd-4e6a-af39-189205806950
DTSTART;VALUE=DATE:20250923
DTEND;VALUE=DATE:20250924
DTSTAMP:20250922T210005Z
CATEGORIES:Analysts' Conference
SUMMARY:Shelly Group SE: Berenberg and Goldman Sachs German Corporate Conference
BEGIN:VALARM
TRIGGER:-PT3600S
DESCRIPTION:Berenberg and Goldman Sachs German Corporate Conference
ACTION:DISPLAY
END:VALARM
END:VEVENT
END:VCALENDAR